BEGIN:VCALENDAR
VERSION:2.0
PRODID:-//Ashburton Museum - ECPv6.15.20//NONSGML v1.0//EN
CALSCALE:GREGORIAN
METHOD:PUBLISH
X-ORIGINAL-URL:https://ashburtonmuseum.co.nz
X-WR-CALDESC:Events for Ashburton Museum
REFRESH-INTERVAL;VALUE=DURATION:PT1H
X-Robots-Tag:noindex
X-PUBLISHED-TTL:PT1H
BEGIN:VTIMEZONE
TZID:Pacific/Auckland
BEGIN:STANDARD
TZOFFSETFROM:+1300
TZOFFSETTO:+1200
TZNAME:NZST
DTSTART:20150404T140000
END:STANDARD
BEGIN:DAYLIGHT
TZOFFSETFROM:+1200
TZOFFSETTO:+1300
TZNAME:NZDT
DTSTART:20150926T140000
END:DAYLIGHT
BEGIN:STANDARD
TZOFFSETFROM:+1300
TZOFFSETTO:+1200
TZNAME:NZST
DTSTART:20160402T140000
END:STANDARD
BEGIN:DAYLIGHT
TZOFFSETFROM:+1200
TZOFFSETTO:+1300
TZNAME:NZDT
DTSTART:20160924T140000
END:DAYLIGHT
BEGIN:STANDARD
TZOFFSETFROM:+1300
TZOFFSETTO:+1200
TZNAME:NZST
DTSTART:20170401T140000
END:STANDARD
BEGIN:DAYLIGHT
TZOFFSETFROM:+1200
TZOFFSETTO:+1300
TZNAME:NZDT
DTSTART:20170923T140000
END:DAYLIGHT
BEGIN:STANDARD
TZOFFSETFROM:+1300
TZOFFSETTO:+1200
TZNAME:NZST
DTSTART:20180331T140000
END:STANDARD
BEGIN:DAYLIGHT
TZOFFSETFROM:+1200
TZOFFSETTO:+1300
TZNAME:NZDT
DTSTART:20180929T140000
END:DAYLIGHT
BEGIN:STANDARD
TZOFFSETFROM:+1300
TZOFFSETTO:+1200
TZNAME:NZST
DTSTART:20190406T140000
END:STANDARD
BEGIN:DAYLIGHT
TZOFFSETFROM:+1200
TZOFFSETTO:+1300
TZNAME:NZDT
DTSTART:20190928T140000
END:DAYLIGHT
END:VTIMEZONE
BEGIN:VEVENT
DTSTART;VALUE=DATE:20180602
DTEND;VALUE=DATE:20180818
DTSTAMP:20260424T001854
CREATED:20190214T020054Z
LAST-MODIFIED:20230922T001742Z
UID:679-1527897600-1534550399@ashburtonmuseum.co.nz
SUMMARY:Museum Adventurers
DESCRIPTION:Follow us on Facebook to learn more about what’s on at Ashburton Museum.
URL:https://ashburtonmuseum.co.nz/event/museum-adventurers/
LOCATION:Ashburton Museum\, Ashburton Museum\, West St\,\, Ashburton\, New Zealand
CATEGORIES:Events
ATTACH;FMTTYPE=image/png:https://ashburtonmuseum.co.nz/wp-content/uploads/Ashburton-Museum-Exhibition-‘Museum-Adventures’-282px11.png
ORGANIZER;CN="Ashburton Museum":MAILTO:events@ashburtonmuesum.co.nz
END:VEVENT
BEGIN:VEVENT
DTSTART;VALUE=DATE:20180601
DTEND;VALUE=DATE:20180817
DTSTAMP:20260424T001854
CREATED:20190114T020036Z
LAST-MODIFIED:20230922T002138Z
UID:675-1527811200-1534463999@ashburtonmuseum.co.nz
SUMMARY:Mid Winter Burty Challenge
DESCRIPTION:Follow us on Facebook to learn more about what’s on at Ashburton Museum.
URL:https://ashburtonmuseum.co.nz/event/mid-winter-burty-challenge/
LOCATION:Ashburton Museum\, Ashburton Museum\, West St\,\, Ashburton\, New Zealand
CATEGORIES:Events
ATTACH;FMTTYPE=image/png:https://ashburtonmuseum.co.nz/wp-content/uploads/Ashburton-Museum-Exhibition-‘Winter-Burty-Challenge’-282px9.png
ORGANIZER;CN="Ashburton Museum":MAILTO:events@ashburtonmuesum.co.nz
END:VEVENT
BEGIN:VEVENT
DTSTART;VALUE=DATE:20180301
DTEND;VALUE=DATE:20180517
DTSTAMP:20260424T001854
CREATED:20190214T021026Z
LAST-MODIFIED:20230922T002125Z
UID:684-1519862400-1526515199@ashburtonmuseum.co.nz
SUMMARY:Bugs\, Rust and Dust Bunnies
DESCRIPTION:Bugs\, Rust and Dust Bunnies focused on the conservation and preservation of treasures/taonga\, in both the museum and home. \nThis exhibition was designed to guide people on the dos and don’ts of preserving precious objects and documents at home\, from thinking about air humidity to pest control. \nMuseum-wide activities and a series of workshops were also a part of the exhibition programme. \nTo find out more about this exhibit\, scroll back on our blog (link) \n  \nFollow us on Facebook to learn more about what’s on at Ashburton Museum.
URL:https://ashburtonmuseum.co.nz/event/bugs-rust-and-dust-bunnies/
LOCATION:Ashburton Museum\, Ashburton Museum\, West St\,\, Ashburton\, New Zealand
CATEGORIES:Exhibitions
ATTACH;FMTTYPE=image/png:https://ashburtonmuseum.co.nz/wp-content/uploads/Ashburton-Museum-Activity-‘Bugs-and-rust’-282px.png
ORGANIZER;CN="Ashburton Museum":MAILTO:events@ashburtonmuesum.co.nz
END:VEVENT
BEGIN:VEVENT
DTSTART;VALUE=DATE:20180201
DTEND;VALUE=DATE:20180419
DTSTAMP:20260424T001854
CREATED:20190214T020622Z
LAST-MODIFIED:20230922T001901Z
UID:677-1517443200-1524095999@ashburtonmuseum.co.nz
SUMMARY:From Taonga to Today
DESCRIPTION:Ongoing – an ever changing permanent exhibition. \nThis object-rich exhibition is drawn from our nationally significant collection. \nIt traces the history of the Ashburton region from nature\, to taonga\, to today. The story of New Zealand’s diverse cultural heritage is woven throughout. \nInteractive modules provide an engaging way to discover the history\, heritage and natural features of the region. Opportunities to explore history through creative activities and hands on making are always available. \nLearn about daily life in Mid-Canterbury\, and how it has both changed and stayed the same. Once in the exhibit\, you will feel as though you have set foot into the district’s fascinating past\, as the story of the Ashburton district unfolds before your eyes. \n  \nTo find out more about this exhibit\, scroll back on our blog. \nFollow us on Facebook to learn more about what’s on at Ashburton Museum.
URL:https://ashburtonmuseum.co.nz/event/from-taonga-to-today/
LOCATION:Ashburton Museum\, Ashburton Museum\, West St\,\, Ashburton\, New Zealand
CATEGORIES:Exhibitions
ATTACH;FMTTYPE=image/png:https://ashburtonmuseum.co.nz/wp-content/uploads/Ashburton-Museum-Exhibition-‘From-Taonga-to-Today-282px10.png
ORGANIZER;CN="Ashburton Museum":MAILTO:events@ashburtonmuesum.co.nz
END:VEVENT
BEGIN:VEVENT
DTSTART;VALUE=DATE:20171101
DTEND;VALUE=DATE:20180118
DTSTAMP:20260424T001854
CREATED:20190214T020929Z
LAST-MODIFIED:20230922T001449Z
UID:681-1509494400-1516233599@ashburtonmuseum.co.nz
SUMMARY:Sounds Like Us
DESCRIPTION:From Radio New Zealand\, this exhibition explored the history of radio in New Zealand\, through Kiwiana radio designs made by Weta Workshop. \nAudio stations provided the soundtrack to one of our nation’s most fascinating stories. \nRadio sculptures from Weta Workshop depicted aspects of our beloved Kiwi culture ranged from a quirky caravan radio\, the ‘fish and chip’ radio\, to an Ernest Rutherford atomic radio. \nOver 600 visitors created their own customised cardboard radios to showcase their unique identities\, which were part of a competition for fabulous prizes. \n  \nTo find out more about this exhibit\, scroll back on our blog  \nFollow us on Facebook to learn more about what’s on at Ashburton Museum.
URL:https://ashburtonmuseum.co.nz/event/sounds-like-us/
LOCATION:Ashburton Museum\, Ashburton Museum\, West St\,\, Ashburton\, New Zealand
CATEGORIES:Exhibitions
ATTACH;FMTTYPE=image/png:https://ashburtonmuseum.co.nz/wp-content/uploads/Ashburton-Museum-Exhibition-‘sounds-like-us’-282px.png
ORGANIZER;CN="Ashburton Museum":MAILTO:events@ashburtonmuesum.co.nz
END:VEVENT
BEGIN:VEVENT
DTSTART;VALUE=DATE:20170601
DTEND;VALUE=DATE:20170818
DTSTAMP:20260424T001854
CREATED:20190214T012149Z
LAST-MODIFIED:20230922T001901Z
UID:665-1496275200-1503014399@ashburtonmuseum.co.nz
SUMMARY:Meet you at the Radiant Hall
DESCRIPTION:By far one of our grooviest exhibitions\, Meet you at the Radiant Hall told the story of what was once the hottest spots in town\, the famous dance hall known as the Radiant Hall. The exhibition spanned the hall’s inception in the 1930s to its demolition in 1996\, while focusing on Ashburton’s collective memory of the balls\, dances\, music\, fun\, and the parties that were held there. \nWe also had a craft activity available for children\, where we had kids design “peg party people” to add to the party scene. \nTo find out more about this exhibit\, scroll back on our blog  \n  \nFollow us on Facebook to learn more about what’s on at Ashburton Museum.
URL:https://ashburtonmuseum.co.nz/event/women-power-freedom-for-change/
LOCATION:Ashburton Museum\, Ashburton Museum\, West St\,\, Ashburton\, New Zealand
CATEGORIES:Exhibitions
ATTACH;FMTTYPE=image/png:https://ashburtonmuseum.co.nz/wp-content/uploads/Ashburton-Museum-Exhibition-‘Meet-you-at-the-Radiant-Hall’-282px5.png
ORGANIZER;CN="Ashburton Museum":MAILTO:events@ashburtonmuesum.co.nz
END:VEVENT
BEGIN:VEVENT
DTSTART;VALUE=DATE:20170101
DTEND;VALUE=DATE:20170320
DTSTAMP:20260424T001854
CREATED:20190214T013108Z
LAST-MODIFIED:20230922T001602Z
UID:670-1483228800-1489967999@ashburtonmuseum.co.nz
SUMMARY:Frederick Cooper: Pioneer Photographer
DESCRIPTION:This fascinating installation centred on the pioneering photography of Frederick Cooper\, a nineteenth century photographer. Hauling heavy photographic material to remote mountain regions\, Cooper captured stunning images of the Southern Alps. His photography helped kick-start mountain and glacier tourism by bringing images of the beautiful South Island to people for the first time. \nFrederick Cooper’s story was displayed through a selection of his famous photographs from our collection\, paired with examples of the photographic equipment he hauled up the Southern Alps to take them. \n  \nThis exhibition was displayed in our Research Room. \nTo find out more about this exhibit\, scroll back on our blog  \n  \nFollow us on Facebook to learn more about what’s on at Ashburton Museum.
URL:https://ashburtonmuseum.co.nz/event/frederick-cooper-pioneer-photographer/
LOCATION:Ashburton Museum\, Ashburton Museum\, West St\,\, Ashburton\, New Zealand
CATEGORIES:Exhibitions
ATTACH;FMTTYPE=image/png:https://ashburtonmuseum.co.nz/wp-content/uploads/Ashburton-Museum-Exhibition-‘Frederick-Cooper-Pioneer-Photographer’-282px7.png
ORGANIZER;CN="Ashburton Museum":MAILTO:events@ashburtonmuesum.co.nz
END:VEVENT
BEGIN:VEVENT
DTSTART;VALUE=DATE:20170101
DTEND;VALUE=DATE:20170320
DTSTAMP:20260424T001854
CREATED:20190214T012724Z
LAST-MODIFIED:20230922T001625Z
UID:668-1483228800-1489967999@ashburtonmuseum.co.nz
SUMMARY:Balls\, Bullets & Boots
DESCRIPTION:Balls\, Bullets & Boots: From the Rugby Field to the battlefield\, told the unfolding stories of fourteen New Zealand rugby players who went to fight for King and Country in the Great War and one lady coach who inspired generations of players. The exhibition toured from the New Zealand Rugby Museum\, Palmerston North. \nTo find out more about this exhibit\, scroll back on our blog  \n  \nFollow us on Facebook to learn more about what’s on at Ashburton Museum.
URL:https://ashburtonmuseum.co.nz/event/balls-bullets-boots/
LOCATION:Ashburton Museum\, Ashburton Museum\, West St\,\, Ashburton\, New Zealand
CATEGORIES:Exhibitions
ATTACH;FMTTYPE=image/png:https://ashburtonmuseum.co.nz/wp-content/uploads/Ashburton-Museum-Exhibition-‘Balls-Bullets-Boots’-282px6.png
ORGANIZER;CN="Ashburton Museum":MAILTO:events@ashburtonmuesum.co.nz
END:VEVENT
BEGIN:VEVENT
DTSTART;VALUE=DATE:20160901
DTEND;VALUE=DATE:20161118
DTSTAMP:20260424T001854
CREATED:20190214T013256Z
LAST-MODIFIED:20230922T001304Z
UID:672-1472688000-1479427199@ashburtonmuseum.co.nz
SUMMARY:The Collectors
DESCRIPTION:This exhibition focused on our love of collections. It featured different types of collections and the stories of collectors with a passion for multiples. Thematic collections\, such as the cat-themed collection of Adair Pethig\, showcased the importance of collecting to people. \n  \nTo find out more about this exhibit\, scroll back on our blog  (link) \nFollow us on Facebook to learn more about what’s on at Ashburton Museum.
URL:https://ashburtonmuseum.co.nz/event/the-collectors/
LOCATION:Ashburton Museum\, Ashburton Museum\, West St\,\, Ashburton\, New Zealand
CATEGORIES:Exhibitions
ATTACH;FMTTYPE=image/png:https://ashburtonmuseum.co.nz/wp-content/uploads/Ashburton-Museum-Exhibition-‘The-Collectors’-282px8.png
ORGANIZER;CN="Ashburton Museum":MAILTO:events@ashburtonmuesum.co.nz
END:VEVENT
END:VCALENDAR